BEGIN:VCALENDAR
VERSION:2.0
PRODID:-//Sackville Community Band Society - ECPv5.16.0//NONSGML v1.0//EN
CALSCALE:GREGORIAN
METHOD:PUBLISH
X-WR-CALNAME:Sackville Community Band Society
X-ORIGINAL-URL:https://www.sackvilleband.com
X-WR-CALDESC:Events for Sackville Community Band Society
BEGIN:VTIMEZONE
TZID:UTC
BEGIN:STANDARD
TZOFFSETFROM:+0000
TZOFFSETTO:+0000
TZNAME:UTC
DTSTART:20190101T000000
END:STANDARD
END:VTIMEZONE
BEGIN:VEVENT
DTSTART;TZID=UTC:20190222T190000
DTEND;TZID=UTC:20190222T210000
DTSTAMP:20260421T140406
CREATED:20190113T021553Z
LAST-MODIFIED:20190113T021553Z
UID:185-1550862000-1550869200@www.sackvilleband.com
SUMMARY:Winter Cabaret - An Evening With Sackville Concert Band
DESCRIPTION:SCB returns to the McInnes Room at Dalhousie for an evening of fun\, dancing\, a silent auction\, and of course great music! \nTickets are available from SCB members or online at \nhttps://www.tickethalifax.com/events/91441652/winter-cabaret-an-evening-with-sackville-concert-band
URL:https://www.sackvilleband.com/event/winter-cabaret-an-evening-with-sackville-concert-band/
LOCATION:McInnes Room\, Dalhousie Student Union Building\, 6136 University Ave\, Halifax\, Nova Scotia\, Canada
END:VEVENT
END:VCALENDAR