BEGIN:VCALENDAR
VERSION:2.0
PRODID:-//Sackville Community Band Society - ECPv5.16.0//NONSGML v1.0//EN
CALSCALE:GREGORIAN
METHOD:PUBLISH
X-WR-CALNAME:Sackville Community Band Society
X-ORIGINAL-URL:https://www.sackvilleband.com
X-WR-CALDESC:Events for Sackville Community Band Society
BEGIN:VTIMEZONE
TZID:UTC
BEGIN:STANDARD
TZOFFSETFROM:+0000
TZOFFSETTO:+0000
TZNAME:UTC
DTSTART:20180101T000000
END:STANDARD
END:VTIMEZONE
BEGIN:VEVENT
DTSTART;TZID=UTC:20181130T193000
DTEND;TZID=UTC:20181130T213000
DTSTAMP:20260421T134646
CREATED:20180925T234304Z
LAST-MODIFIED:20180925T234304Z
UID:172-1543606200-1543613400@www.sackvilleband.com
SUMMARY:Portia White Gala Concert
DESCRIPTION:Sackville Concert Band is proud to be part of the Portia White Gala Concert once more. \nTickets available in advance and limited at the door.
URL:https://www.sackvilleband.com/event/portia-white-gala-concert/
LOCATION:Faith Tabernacle\, 6225 Summit Street\, Halifax\, Nova Scotia\, B3L 1R6\, Canada
END:VEVENT
END:VCALENDAR