BEGIN:VCALENDAR
VERSION:2.0
PRODID:-//Sackville Community Band Society - ECPv5.16.0//NONSGML v1.0//EN
CALSCALE:GREGORIAN
METHOD:PUBLISH
X-WR-CALNAME:Sackville Community Band Society
X-ORIGINAL-URL:https://www.sackvilleband.com
X-WR-CALDESC:Events for Sackville Community Band Society
BEGIN:VTIMEZONE
TZID:America/Halifax
BEGIN:DAYLIGHT
TZOFFSETFROM:-0400
TZOFFSETTO:-0300
TZNAME:ADT
DTSTART:20170312T060000
END:DAYLIGHT
BEGIN:STANDARD
TZOFFSETFROM:-0300
TZOFFSETTO:-0400
TZNAME:AST
DTSTART:20171105T050000
END:STANDARD
END:VTIMEZONE
BEGIN:VEVENT
DTSTART;TZID=America/Halifax:20171210T150000
DTEND;TZID=America/Halifax:20171210T170000
DTSTAMP:20260421T153906
CREATED:20180220T021408Z
LAST-MODIFIED:20180220T021903Z
UID:75-1512918000-1512925200@www.sackvilleband.com
SUMMARY:Annual Toys for Christmas Charity Concert
DESCRIPTION:SCB and the 9am Band return to Springfield Lake Rec Centre for their annual Toys for Christmas Charity Concert.  Bring a toy or non-perishable food item for donation to local food bank organizations.
URL:https://www.sackvilleband.com/event/annual-toys-for-christmas-charity-concert/
LOCATION:Springfield Lake Recreation Centre\, 266 Lakeview Ave\, Middle Sackville\, Nova Scotia\, Canada
END:VEVENT
END:VCALENDAR